Workbook

Sheet Sheet1
A1: 学号 | B1: 姓名 | C1: 性别 | D1: 班级 | E1: 论文指导老师 | F1: 答辩分组 | G1: 答辩教室
A2: 2112**43 | B2: 刘舒怡 | C2: 女 | D2: 翻译2241 | E2: 周俊博 | F2: 1 | G2: J5-104
A3: 2212**10 | B3: 何键茹 | C3: 女 | D3: 翻译2241 | E3: =IFERROR(VLOOKUP(B3,[1]全览!$C$2:$G$143,5,FALSE),"0") -> 张露 | F3: 1 | G3: J5-104
A4: 2212**15 | B4: 李婧如 | C4: 女 | D4: 翻译2241 | E4: =IFERROR(VLOOKUP(B4,[1]全览!$C$2:$G$143,5,FALSE),"0") -> 舒杨 | F4: 1 | G4: J5-104
A5: 2212**34 | B5: 曾鑫 | C5: 女 | D5: 翻译2241 | E5: =IFERROR(VLOOKUP(B5,[1]全览!$C$2:$G$143,5,FALSE),"0") -> 何梦宇 | F5: 1 | G5: J5-104
A6: 2212**40 | B6: 邓钰轩 | C6: 女 | D6: 翻译2241 | E6: =IFERROR(VLOOKUP(B6,[1]全览!$C$2:$G$143,5,FALSE),"0") -> 徐敏 | F6: 1 | G6: J5-104
A7: 2212**55 | B7: 聂心宇 | C7: 女 | D7: 翻译2241 | E7: =IFERROR(VLOOKUP(B7,[1]全览!$C$2:$G$143,5,FALSE),"0") -> 王雅静 | F7: 1 | G7: J5-104
A8: 2212**64 | B8: 汪琼 | C8: 女 | D8: 翻译2241 | E8: =IFERROR(VLOOKUP(B8,[1]全览!$C$2:$G$143,5,FALSE),"0") -> 夏方耘 | F8: 1 | G8: J5-104
A9: 2212**98 | B9: 史梓玉 | C9: 女 | D9: 翻译2241 | E9: =IFERROR(VLOOKUP(B9,[1]全览!$C$2:$G$143,5,FALSE),"0") -> 刘振 | F9: 1 | G9: J5-104
A10: 2212**32 | B10: 刘晨曦 | C10: 女 | D10: 翻译2241 | E10: =IFERROR(VLOOKUP(B10,[1]全览!$C$2:$G$143,5,FALSE),"0") -> 舒杨 | F10: 1 | G10: J5-104
A11: 2212**34 | B11: 刘文哲 | C11: 男 | D11: 翻译2241 | E11: =IFERROR(VLOOKUP(B11,[1]全览!$C$2:$G$143,5,FALSE),"0") -> 何梦宇 | F11: 1 | G11: J5-104
A12: 2212**39 | B12: 史靖雯 | C12: 女 | D12: 翻译2241 | E12: =IFERROR(VLOOKUP(B12,[1]全览!$C$2:$G$143,5,FALSE),"0") -> 徐敏 | F12: 1 | G12: J5-104
A13: 2212**41 | B13: 汤晟璐 | C13: 男 | D13: 翻译2241 | E13: =IFERROR(VLOOKUP(B13,[1]全览!$C$2:$G$143,5,FALSE),"0") -> 王雅静 | F13: 1 | G13: J5-104
A14: 2212**47 | B14: 詹琳 | C14: 女 | D14: 翻译2241 | E14: =IFERROR(VLOOKUP(B14,[1]全览!$C$2:$G$143,5,FALSE),"0") -> 夏方耘 | F14: 1 | G14: J5-104
... A38: 2212**28 | B38: 杨璟妍 | C38: 女 | D38: 商英2241 | E38: =IFERROR(VLOOKUP(B38,[1]全览!$C$2:$G$143,5,FALSE),"0") -> 郑昭梅 | F38: 3 | G38: J5-106
A39: 2212**41 | B39: 冯智博 | C39: 男 | D39: 商英2241 | E39: 宫姗姗 | F39: 3 | G39: J5-106
A40: 2212**68 | B40: 吴藟 | C40: 男 | D40: 商英2241 | E40: =IFERROR(VLOOKUP(B40,[1]全览!$C$2:$G$143,5,FALSE),"0") -> 周谨平 | F40: 3 | G40: J5-106
A41: 2212**73 | B41: 张俊轩 | C41: 男 | D41: 商英2241 | E41: =IFERROR(VLOOKUP(B41,[1]全览!$C$2:$G$143,5,FALSE),"0") -> 吴长青 | F41: 3 | G41: J5-106
A42: 2212**80 | B42: 陈雨露 | C42: 女 | D42: 商英2242 | E42: =IFERROR(VLOOKUP(B42,[1]全览!$C$2:$G$143,5,FALSE),"0") -> 程曼莉 | F42: 3 | G42: J5-106
A43: 2212**96 | B43: 毛慧琳 | C43: 女 | D43: 商英2242 | E43: 宫姗姗 | F43: 3 | G43: J5-106
A44: 2212**00 | B44: 孙静 | C44: 女 | D44: 商英2242 | E44: =IFERROR(VLOOKUP(B44,[1]全览!$C$2:$G$143,5,FALSE),"0") -> 周谨平 | F44: 3 | G44: J5-106
A45: 2212**08 | B45: 杨舒晴 | C45: 女 | D45: 商英2242 | E45: =IFERROR(VLOOKUP(B45,[1]全览!$C$2:$G$143,5,FALSE),"0") -> 程曼莉 | F45: 3 | G45: J5-106
A46: 2212**30 | B46: 李诗琦 | C46: 女 | D46: 商英2242 | E46: 宫姗姗 | F46: 3 | G46: J5-106
A47: 2212**49 | B47: 周雨田 | C47: 女 | D47: 商英2242 | E47: =IFERROR(VLOOKUP(B47,[1]全览!$C$2:$G$143,5,FALSE),"0") -> 周谨平 | F47: 3 | G47: J5-106
A48: 2212**50 | B48: 周宇羚 | C48: 女 | D48: 商英2242 | E48: =IFERROR(VLOOKUP(B48,[1]全览!$C$2:$G$143,5,FALSE),"0") -> 胡颖 | F48: 3 | G48: J5-106
A49: 2212**57 | B49: 丁祉祎 | C49: 女 | D49: 商英2241 | E49: 王冬梅 | F49: 3 | G49: J5-106
A50: 2212**61 | B50: 胡雅文 | C50: 女 | D50: 商英2241 | E50: =IFERROR(VLOOKUP(B50,[1]全览!$C$2:$G$143,5,FALSE),"0") -> 郑昭梅 | F50: 3 | G50: J5-106
A51: 2212**71 | B51: 石程耀宇 | C51: 男 | D51: 商英2241 | E51: 宫姗姗 | F51: 3 | G51: J5-106
A52: 2212**86 | B52: 张汀 | C52: 女 | D52: 商英2241 | E52: =IFERROR(VLOOKUP(B52,[1]全览!$C$2:$G$143,5,FALSE),"0") -> 周谨平 | F52: 3 | G52: J5-106
A53: 2212**14 | B53: 李雨嘉 | C53: 女 | D53: 商英2241 | E53: =IFERROR(VLOOKUP(B53,[1]全览!$C$2:$G$143,5,FALSE),"0") -> 孙小军 | F53: 4 | G53: J5-107
A54: 2212**25 | B54: 王秋越 | C54: 女 | D54: 商英2241 | E54: =IFERROR(VLOOKUP(B54,[1]全览!$C$2:$G$143,5,FALSE),"0") -> 王瑞辑 | F54: 4 | G54: J5-107
A55: 2212**29 | B55: 杨佳乐 | C55: 女 | D55: 商英2241 | E55: =IFERROR(VLOOKUP(B55,[1]全览!$C$2:$G$143,5,FALSE),"0") -> 叶华 | F55: 4 | G55: J5-107
A56: 2212**48 | B56: 李嘉仪 | C56: 女 | D56: 商英2241 | E56: =IFERROR(VLOOKUP(B56,[1]全览!$C$2:$G$143,5,FALSE),"0") -> 王冠 | F56: 4 | G56: J5-107
A57: 2212**72 | B57: 殷俊 | C57: 男 | D57: 商英2241 | E57: =IFERROR(VLOOKUP(B57,[1]全览!$C$2:$G$143,5,FALSE),"0") -> 胡颖 | F57: 4 | G57: J5-107
A58: 2212**78 | B58: 操裕 | C58: 男 | D58: 商英2242 | E58: =IFERROR(VLOOKUP(B58,[1]全览!$C$2:$G$143,5,FALSE),"0") -> 孙小军 | F58: 4 | G58: J5-107
A59: 2212**83 | B59: 陈琪琪 | C59: 女 | D59: 商英2242 | E59: =IFERROR(VLOOKUP(B59,[1]全览!$C$2:$G$143,5,FALSE),"0") -> 王瑞辑 | F59: 4 | G59: J5-107
A60: 2212**94 | B60: 吕娜 | C60: 女 | D60: 商英2242 | E60: =IFERROR(VLOOKUP(B60,[1]全览!$C$2:$G$143,5,FALSE),"0") -> 叶华 | F60: 4 | G60: J5-107
A61: 2212**97 | B61: 沈思雨 | C61: 女 | D61: 商英2242 | E61: =IFERROR(VLOOKUP(B61,[1]全览!$C$2:$G$143,5,FALSE),"0") -> 王冠 | F61: 4 | G61: J5-107
A62: 2212**09 | B62: 殷婧雯 | C62: 女 | D62: 商英2242 | E62: =IFERROR(VLOOKUP(B62,[1]全览!$C$2:$G$143,5,FALSE),"0") -> 王瑞辑 | F62: 4 | G62: J5-107
A63: 2212**19 | B63: 杜颖 | C63: 女 | D63: 商英2242 | E63: =IFERROR(VLOOKUP(B63,[1]全览!$C$2:$G$143,5,FALSE),"0") -> 叶华 | F63: 4 | G63: J5-107
...
